BEGIN:VCALENDAR
VERSION:2.0
PRODID:-//The Greek Club - ECPv4.6//NONSGML v1.0//EN
CALSCALE:GREGORIAN
METHOD:PUBLISH
X-WR-CALNAME:The Greek Club
X-ORIGINAL-URL:http://www.thegreekclub.com.au
X-WR-CALDESC:Events for The Greek Club
BEGIN:VEVENT
DTSTART;VALUE=DATE:20180101
DTEND;VALUE=DATE:20180331
DTSTAMP:20180226T092510
CREATED:20180122T023833Z
LAST-MODIFIED:20180122T023833Z
UID:3162-1514764800-1522540799@www.thegreekclub.com.au
SUMMARY:Win a DREAM Honeymoon
DESCRIPTION:If you haven’t already heard the news\, The Greek Club is getting a stylish refurbishment and we’re celebrating by giving you and your fiancé the chance to WIN A DREAM HONEYMOON IN PARADISE TAVEUNI\, FIJI! \nYOUR HONEYMOON\nYou’re engaged! Congratulations on this truly joyous time. It’s not just the big day you get to look forward to\, it’s the honeymoon as well. And what better way to celebrate after tieing the knot than relaxing on a tropical paradise island. The Greek Club is giving you the chance to realise that dream in beautiful Fiji\, because we believe our couples deserve the very best. \nTo be eligible to win this dream honeymoon package\, simply book your wedding reception with The Greek Club between 1 January and 31 March 2018.* Your wedding reception can take place on any available date in 2018! \nHONEYMOON HIGHLIGHTS:\n– Return airfare for two\n– Return airport road transfers on Taveuni\n– 7 nights accommodation in a luxurious ocean view room at beautiful Paradise Taveuni\, Fiji\n– Tropical fruit plate on arrival\n– All meals included – breakfast\, lunch and dinner\n– Complimentary couple’s relaxation massage \n*T&C’S APPLY- You can read FULL PRIZE DETAILS and FULL TERMS AND CONDITIONS here. \nYOUR DREAM RECEPTION\nThe Greek Club allows you to create a wedding event unsurpassable to match your style and opulence\, catering for 60 to 600 of your dearest family and friends. Your dream day will showcase city skyline and parkland views and you can relax knowing that our dedicated wedding event specialist\, Katherine\, will guide you throughout the entire planning process. \nOUR ALL-INCLUSIVE LUXURY PACKAGES START AT JUST $142.50PP AND FEATURE:\n– Dedicated wedding event specialist to help you every step of the way\n– Arrival Bellini cocktails for every guest on our Grand Balcony overlooking the city skyline\n– 1/2 hour chef’s selection of hot canapes\n– Chef’s selection of hot canapes and beverages served to your bridal party prior to the reception\n– Three course menu with freshly brewed coffee\, tea and chocolates (alternate entree\, main and dessert)\n– Five hour deluxe beverage package including selected sparkling\, white and red wines\, local beers & soft drinks\n– Styling from our industry leading suppliers\, including bridal and cake table swagging\, Tiffany chairs or chair covers and sash\, centrepieces and continuous mirror runner with tea lights for the bridal table\n– Complimentary venue hire\n– Complimentary bridal powder room\n– Complimentary menu tasting for you and your fiance\n– Midnight conclusion\n– Add to the luxury of your dream day by upgrading to our Supreme or Deluxe Wedding Package \nWe invite you to make an appointment to discuss your dream day and view our venue. \nCLICK HERE TO DOWNLOAD PACKAGES \n
URL:http://www.thegreekclub.com.au/event/win-a-dream-honeymoon/
LOCATION:Australia
ATTACH;FMTTYPE=image/jpeg:http://www.thegreekclub.com.au/wp-content/uploads/landing-page-image-3.jpg
END:VEVENT
BEGIN:VEVENT
DTSTART;TZID=UTC+10:20180101T080000
DTEND;TZID=UTC+10:20180420T170000
DTSTAMP:20180226T092510
CREATED:20171108T032143Z
LAST-MODIFIED:20171114T005453Z
UID:2883-1514793600-1524243600@www.thegreekclub.com.au
SUMMARY:VENUE RENOVATIONS CLOSURE
DESCRIPTION:The Greek Club Closed- 1ST JAN- MID APRIL \nThe Greek Club and Odyssey Taverna will be closed for renovations from the 1st of January until mid-April 2018. Our Office Team will still be contactable between 8:30am and 5:00pm Monday to Friday for all enquiries and event bookings. You can get in touch with the team via phone on 3844 1166 or email via info@thegreekclub.com.au. We wish everyone a safe and happy few months ahead and can’t wait to show you what is in store for when we re-open. \nEVENTS CENTRE\nThe function rooms on the lower level of the club will be completely refurbished\, offering sophisticated\, modern event spaces. Upstairs\, the addition of a Grand Balcony will take the venue to a new level. \nODYSSEY TAVERNA\nThe Odyssey Taverna + Bar will wow guests with a modern new fit out featuring a private dining room\, cocktail bar and sleek\, open servery. \nSee full story HERE \n  \n  \n
URL:http://www.thegreekclub.com.au/event/renovation-closure/
ATTACH;FMTTYPE=image/jpeg:http://www.thegreekclub.com.au/wp-content/uploads/The-New-Greek-Club.jpg
END:VEVENT
BEGIN:VEVENT
DTSTART;TZID=UTC+10:20180323T173000
DTEND;TZID=UTC+10:20180325T153000
DTSTAMP:20180226T092510
CREATED:20180129T024551Z
LAST-MODIFIED:20180129T024551Z
UID:3205-1521826200-1521991800@www.thegreekclub.com.au
SUMMARY:Queensland Brides Wedding & Honeymoon Expo
DESCRIPTION:Queensland Brides Wedding & Honeymoon Expo is back on again this year and The Greek Club is ready to show you what we’ve got!\nCome and visit us from the 23th-25th of March\, and let us give you our expert advice in person. \nRecognised as one of Brisbane’s premier wedding venues\, The Greek Club is the perfect location to celebrate one of the most significant days of your life. With exceptional staff and over 40 years’ experience\, we’ve mastered the art of wedding catering. Our breathtaking views of the park life and Brisbane city skyline will add to the splendour of your magnificent day. \nKatherine\, our wedding event specialist\, will tailor your wedding package to perfectly capture the wedding of your dreams. From small\, intimate weddings to big lavish events\, we can cater up to 650 people. With choices to suit everyone\, choose from a variety of options from our Modern Australian cuisine. \nWe hope and can’t wait to see you there! \nEXPO OPENING TIMES\nFriday: 5:30pm – 8:30pm\nSaturday: 10:00am – 4:00pm\nSunday: 10:00am – 3:30pm \n
URL:http://www.thegreekclub.com.au/event/queensland-brides-wedding-honeymoon-expo-2/
LOCATION:Merivale St & Glenelg Street\, South Brisbane\, Queensland\, 4101
ATTACH;FMTTYPE=image/jpeg:http://www.thegreekclub.com.au/wp-content/uploads/Christalla-Nick-bride-expo.jpg
END:VEVENT
BEGIN:VEVENT
DTSTART;TZID=UTC+10:20180421T190000
DTEND;TZID=UTC+10:20180421T230000
DTSTAMP:20180226T092510
CREATED:20180118T052903Z
LAST-MODIFIED:20180118T052903Z
UID:3159-1524337200-1524351600@www.thegreekclub.com.au
SUMMARY:Bouzoukia Night
DESCRIPTION:The ASKLIPIO ASSOCIATION proudly presents:\nBOUZOUKIA NIGHT – SATURDAY 21ST APRIL 2018 | 7PM \nTo book call Stergo on 0419 773 547 \nGrab your friends and join us at The Greek Club for a fantastic night of live music\, featuring special guests from Adelaide Paraskevi Kontoleon & Stathi Papastergos\, accompanied by a 5-piece Greek band! \nTickets:\nAdults $40\nChildren (11-15 years) $15\nChildren under 10 FREE \nProudly sponsored by: Delphi Bank\, APAK Wholesalers\, The Greek Club\, European Jewellers\, Michael Innis Menswear & Ridge Jewellers \n
URL:http://www.thegreekclub.com.au/event/bouzoukia-night-2/
LOCATION:Australia
ATTACH;FMTTYPE=image/jpeg:http://www.thegreekclub.com.au/wp-content/uploads/BANNER-APRIL-18.jpg
END:VEVENT
BEGIN:VEVENT
DTSTART;TZID=UTC+10:20180525T200000
DTEND;TZID=UTC+10:20180525T233000
DTSTAMP:20180226T092510
CREATED:20170612T053140Z
LAST-MODIFIED:20170612T053140Z
UID:2294-1527278400-1527291000@www.thegreekclub.com.au
SUMMARY:Straight Outta Compo: Comedy Show
DESCRIPTION:\n			\n				\n			\n			\n		\n\nTop of the World Entertainment Presents: STRAIGHT OUTTA COMPO \nTAHIR\, JOE AVATI\, GEORGE KAPINIARIS & ROB SHEHADIE \nBooking: Call 3844 1166\nThe Greek Club – Friday 25th May 2018 \nShowtime: 8pm\n29 Edmondstone St\, West End\, QLD\nbookings: 07 3844 1166\nthegreekclub.com.au \n
URL:http://www.thegreekclub.com.au/event/straight-outta-compo-comedy-show/
LOCATION:Australia
ATTACH;FMTTYPE=image/jpeg:http://www.thegreekclub.com.au/wp-content/uploads/1685jaec_COMPO-FB-Banner_GreekClub.jpg
END:VEVENT
END:VCALENDAR